<?xml version="1.0" encoding="UTF-8"?>
<metadata xmlns:xsi="https://www.w3.org/2001/XMLSchema-instance" xsi:noNamespaceSchemaLocation="http://www.ngdc.noaa.gov/metadata/published/xsd/ngdcSchema/schema.xsd" >
  <idinfo>
    <datsetid>tds.marine.rutgers.edu:RARITAN_ELEVATION</datsetid>
    <citation>
      <citeinfo>
        <origin>
Project: Rutgers University
Institution: Rutgers University
InfoURL: ???
Source URL: (local files)
        </origin>
        <origin_cntinfo>
          <cntinfo>
            <cntorgp>
              <cntorg>Rutgers University</cntorg>
              <cntper>Unknown</cntper>
            </cntorgp>
            <cntemail>Unknown</cntemail>
          </cntinfo>
        </origin_cntinfo>
        <pubdate></pubdate>
        <title>Rartian River Basin Elevation Data.</title>
        <edition>Unknown</edition>
        <geoform>raster digital data</geoform>
        <pubinfo>
          <pubplace>New Brunswick, NJ, USA</pubplace>
          <publish>ERDDAP, version 2.30.0, at Department of Marine and Coastal Sciences, Rutgers University</publish>
          <publish_cntinfo>
            <cntinfo>
              <cntorgp>
                <cntorg>Department of Marine and Coastal Sciences, Rutgers University</cntorg>
                <cntper>David Robertson</cntper>
              </cntorgp>
              <cntpos>Research Programmer</cntpos>
              <cntaddr>
                <addrtype>Mailing and Physical Address</addrtype>
                <address>71 Dudley Road</address>
                <city>New Brunswick</city>
                <state>NJ</state>
                <postal>08901</postal>
                <country>USA</country>
              </cntaddr>
              <cntvoice>848-932-3372</cntvoice>
              <cntemail>robertson@marine.rutgers.edu</cntemail>
            </cntinfo>
          </publish_cntinfo>
        </pubinfo>
        <onlink>https://tds.marine.rutgers.edu/erddap/griddap/RARITAN_ELEVATION.html</onlink>
        <onlink>https://tds.marine.rutgers.edu/erddap/griddap/RARITAN_ELEVATION.graph</onlink>
        <onlink>https://tds.marine.rutgers.edu/erddap/wms/RARITAN_ELEVATION/request</onlink>
        <CI_OnlineResource>
          <linkage>https://tds.marine.rutgers.edu/erddap/griddap/RARITAN_ELEVATION.html</linkage>
          <name>Download data: Rartian River Basin Elevation Data.</name>
          <description>A web page for specifying a subset of the dataset and downloading data in any of several file formats.</description>
          <function>download data</function>
        </CI_OnlineResource>
        <CI_OnlineResource>
          <linkage>https://tds.marine.rutgers.edu/erddap/griddap/RARITAN_ELEVATION.graph</linkage>
          <name>Make a graph or map: Rartian River Basin Elevation Data.</name>
          <description>A web page for creating a graph or map of the data.</description>
          <function>download graph or map</function>
        </CI_OnlineResource>
        <CI_OnlineResource>
          <linkage>https://tds.marine.rutgers.edu/erddap/griddap/RARITAN_ELEVATION</linkage>
          <name>OPeNDAP service: Rartian River Basin Elevation Data.</name>
          <description>The base URL for the OPeNDAP service.  Add .html to get a web page with a form to download data. Add .dds to get the dataset's structure. Add .das to get the dataset's metadata. Add .dods to download data via the OPeNDAP protocol.</description>
          <function>OPeNDAP</function>
        </CI_OnlineResource>
        <CI_OnlineResource>
          <linkage>???</linkage>
          <name>Background information: Rartian River Basin Elevation Data.</name>
          <description>Background information for the dataset.</description>
          <function>background information</function>
        </CI_OnlineResource>
        <CI_OnlineResource>
          <linkage>https://tds.marine.rutgers.edu/erddap/wms/RARITAN_ELEVATION/request</linkage>
          <name>WMS service: Rartian River Basin Elevation Data.</name>
          <description>The base URL for the WMS service for this dataset.</description>
          <function>WMS</function>
        </CI_OnlineResource>
        <lworkcit>
          <citeinfo>
            <origin>Rutgers University</origin>
          </citeinfo>
        </lworkcit>
      </citeinfo>
    </citation>
    <descript>
      <abstract>This is a synthesized elevation dataset of the Raritan River basin,e xtending from the river mouth at Perth Amboy to the Calico Dam at Bound Brook.Multiple datasets contributed to this poduct, including a 3D Elevation Program (3DEP) with 1/3 arc-second resolution, a USACE  Raritan River Survey, Historic National Ocean Service (NOS) hydrographic survyes, and NOAA ENC navigation charts.</abstract>
      <purpose>Unknown</purpose>
      <supplinf>???</supplinf>
    </descript>
    <timeperd>
      <timeinfo>
        <rngdates>
          <begdate>Unknown</begdate>
          <enddate>Unknown</enddate>
        </rngdates>
      </timeinfo>
      <current>ground condition</current>
    </timeperd>
    <status>
      <progress>Complete</progress>
      <update>As needed</update>
    </status>
    <spdom>
      <bounding>
        <westbc>-74.56</westbc>
        <eastbc>-74.2701</eastbc>
        <northbc>40.6</northbc>
        <southbc>40.4</southbc>
      </bounding>
    </spdom>
    <keywords>
      <theme>
        <themekt>Uncontrolled</themekt>
        <themekey>basin</themekey>
        <themekey>bathymetry</themekey>
        <themekey>binary</themekey>
        <themekey>data</themekey>
        <themekey>elevation</themekey>
        <themekey>identifier</themekey>
        <themekey>land</themekey>
        <themekey>land_binary_mask</themekey>
        <themekey>mask</themekey>
        <themekey>national</themekey>
        <themekey>nos</themekey>
        <themekey>ocean</themekey>
        <themekey>raritan</themekey>
        <themekey>rartian</themekey>
        <themekey>river</themekey>
        <themekey>service</themekey>
        <themekey>topography</themekey>
      </theme>
      <theme>
        <themekt>CF Standard Name Table v29</themekt>
        <themekey>longitude</themekey>
        <themekey>latitude</themekey>
        <themekey>land_binary_mask</themekey>
      </theme>
    </keywords>
    <accconst>None.</accconst>
    <useconst>The data may be used and redistributed for free but is not intended
for legal use, since it may contain inaccuracies. Neither the data
Contributor, ERD, NOAA, nor the United States Government, nor any
of their employees or contractors, makes any warranty, express or
implied, including warranties of merchantability and fitness for a
particular purpose, or assumes any legal liability for the accuracy,
completeness, or usefulness, of this information.</useconst>
    <ptcontac>
      <cntinfo>
        <cntorgp>
          <cntorg>Department of Marine and Coastal Sciences, Rutgers University</cntorg>
          <cntper>David Robertson</cntper>
        </cntorgp>
        <cntpos>Research Programmer</cntpos>
        <cntaddr>
          <addrtype>Mailing and Physical Address</addrtype>
          <address>Unknown</address>
          <address>Unknown</address>
          <city>Unknown</city>
          <state>Unknown</state>
          <postal>Unknown</postal>
          <country>Unknown</country>
        </cntaddr>
        <cntvoice>848-932-3372</cntvoice>
        <cntemail>robertson@marine.rutgers.edu</cntemail>
      </cntinfo>
    </ptcontac>
    <browse>
      <browsen>https://tds.marine.rutgers.edu/erddap/griddap/RARITAN_ELEVATION.graph</browsen>
      <browsed>Web page to make a customized map or graph of the data</browsed>
      <browset>HTML</browset>
    </browse>
  </idinfo>
  <dataqual>
    <logic>Unknown</logic>
    <complete>Unknown</complete>
    <posacc>
      <horizpa>
        <horizpar>Unknown</horizpar>
      </horizpa>
      <vertacc>
        <vertaccr>Unknown</vertaccr>
      </vertacc>
    </posacc>
    <lineage>
      <procstep>
        <procdesc>Created by Eli Hunter (hunter@marine.rutgers.edu),04-Nov-2019 10:03:46, write_raritan_bathymetry_netcdf</procdesc>
        <procdate>Unknown</procdate>
      </procstep>
    </lineage>
  </dataqual>
  <spdoinfo>
    <direct>Raster</direct>
    <rastinfo>
      <cvaltype>double</cvaltype>
      <rasttype>Grid Cell</rasttype>
      <rowcount>2001</rowcount>
      <colcount>2231</colcount>
      <vrtcount>1</vrtcount>
    </rastinfo>
  </spdoinfo>
  <spref>
    <horizsys>
      <geograph>
        <latres>1.0E-4</latres>
        <longres>1.3E-4</longres>
        <geogunit>Decimal degrees</geogunit>
      </geograph>
      <geodetic>
        <horizdn>D_WGS_1984</horizdn>
        <ellips>WGS_1984</ellips>
        <semiaxis>6378137.000000</semiaxis>
        <denflat>298.257224</denflat>
      </geodetic>
    </horizsys>
  </spref>
  <distinfo>
    <distrib>
            <cntinfo>
              <cntorgp>
                <cntorg>Department of Marine and Coastal Sciences, Rutgers University</cntorg>
                <cntper>David Robertson</cntper>
              </cntorgp>
              <cntpos>Research Programmer</cntpos>
              <cntaddr>
                <addrtype>Mailing and Physical Address</addrtype>
                <address>71 Dudley Road</address>
                <city>New Brunswick</city>
                <state>NJ</state>
                <postal>08901</postal>
                <country>USA</country>
              </cntaddr>
              <cntvoice>848-932-3372</cntvoice>
              <cntemail>robertson@marine.rutgers.edu</cntemail>
            </cntinfo>
    </distrib>
    <resdesc>ERDDAP, version 2.30.0: get metadata; download data; make graphs and maps.</resdesc>
    <distliab>The data may be used and redistributed for free but is not intended
for legal use, since it may contain inaccuracies. Neither the data
Contributor, ERD, NOAA, nor the United States Government, nor any
of their employees or contractors, makes any warranty, express or
implied, including warranties of merchantability and fitness for a
particular purpose, or assumes any legal liability for the accuracy,
completeness, or usefulness, of this information.</distliab>
    <stdorder>
      <digform>
        <digtinfo>
          <formname>.asc</formname>
          <formvern>1</formvern>
          <formspec>View OPeNDAP-style ISO-8859-1 comma-separated text. https://docs.opendap.org/index.php/UserGuideOPeNDAPMessages#ASCII_Service</formspec>
        </digtinfo>
        <digtopt>
          <onlinopt>
            <computer>
              <networka>
                <networkr>https://tds.marine.rutgers.edu/erddap/griddap/RARITAN_ELEVATION.html</networkr>
                <CI_OnlineResource>
                  <linkage>https://tds.marine.rutgers.edu/erddap/griddap/RARITAN_ELEVATION.html</linkage>
                  <name>Rartian River Basin Elevation Data.</name>
                  <description>Web page for accessing metadata and downloading data.</description>
                  <function>download</function>
                </CI_OnlineResource>
                <CI_OnlineResource>
                  <linkage>https://tds.marine.rutgers.edu/erddap/griddap/RARITAN_ELEVATION.html</linkage>
                  <name>Rartian River Basin Elevation Data.</name>
                  <description>Web page for accessing metadata and downloading data.</description>
                  <function>information</function>
                </CI_OnlineResource>
              </networka>
            </computer>
          </onlinopt>
        </digtopt>
      </digform>
      <digform>
        <digtinfo>
          <formname>.croissant</formname>
          <formvern>1</formvern>
          <formspec>Download the dataset croissant schema. https://docs.mlcommons.org/croissant/docs/croissant-spec.html</formspec>
        </digtinfo>
        <digtopt>
          <onlinopt>
            <computer>
              <networka>
                <networkr>https://tds.marine.rutgers.edu/erddap/griddap/RARITAN_ELEVATION.html</networkr>
                <CI_OnlineResource>
                  <linkage>https://tds.marine.rutgers.edu/erddap/griddap/RARITAN_ELEVATION.html</linkage>
                  <name>Rartian River Basin Elevation Data.</name>
                  <description>Web page for accessing metadata and downloading data.</description>
                  <function>download</function>
                </CI_OnlineResource>
                <CI_OnlineResource>
                  <linkage>https://tds.marine.rutgers.edu/erddap/griddap/RARITAN_ELEVATION.html</linkage>
                  <name>Rartian River Basin Elevation Data.</name>
                  <description>Web page for accessing metadata and downloading data.</description>
                  <function>information</function>
                </CI_OnlineResource>
              </networka>
            </computer>
          </onlinopt>
        </digtopt>
      </digform>
      <digform>
        <digtinfo>
          <formname>.csv</formname>
          <formvern>1</formvern>
          <formspec>Download a ISO-8859-1 comma-separated text table (line 1: names; line 2: units; ISO 8601 times). https://en.wikipedia.org/wiki/Comma-separated_values</formspec>
        </digtinfo>
        <digtopt>
          <onlinopt>
            <computer>
              <networka>
                <networkr>https://tds.marine.rutgers.edu/erddap/griddap/RARITAN_ELEVATION.html</networkr>
                <CI_OnlineResource>
                  <linkage>https://tds.marine.rutgers.edu/erddap/griddap/RARITAN_ELEVATION.html</linkage>
                  <name>Rartian River Basin Elevation Data.</name>
                  <description>Web page for accessing metadata and downloading data.</description>
                  <function>download</function>
                </CI_OnlineResource>
                <CI_OnlineResource>
                  <linkage>https://tds.marine.rutgers.edu/erddap/griddap/RARITAN_ELEVATION.html</linkage>
                  <name>Rartian River Basin Elevation Data.</name>
                  <description>Web page for accessing metadata and downloading data.</description>
                  <function>information</function>
                </CI_OnlineResource>
              </networka>
            </computer>
          </onlinopt>
        </digtopt>
      </digform>
      <digform>
        <digtinfo>
          <formname>.csv0</formname>
          <formvern>1</formvern>
          <formspec>Download a ISO-8859-1 .csv file without column names or units. Times are ISO 8601 strings. https://en.wikipedia.org/wiki/Comma-separated_values</formspec>
        </digtinfo>
        <digtopt>
          <onlinopt>
            <computer>
              <networka>
                <networkr>https://tds.marine.rutgers.edu/erddap/griddap/RARITAN_ELEVATION.html</networkr>
                <CI_OnlineResource>
                  <linkage>https://tds.marine.rutgers.edu/erddap/griddap/RARITAN_ELEVATION.html</linkage>
                  <name>Rartian River Basin Elevation Data.</name>
                  <description>Web page for accessing metadata and downloading data.</description>
                  <function>download</function>
                </CI_OnlineResource>
                <CI_OnlineResource>
                  <linkage>https://tds.marine.rutgers.edu/erddap/griddap/RARITAN_ELEVATION.html</linkage>
                  <name>Rartian River Basin Elevation Data.</name>
                  <description>Web page for accessing metadata and downloading data.</description>
                  <function>information</function>
                </CI_OnlineResource>
              </networka>
            </computer>
          </onlinopt>
        </digtopt>
      </digform>
      <digform>
        <digtinfo>
          <formname>.csvp</formname>
          <formvern>1</formvern>
          <formspec>Download a ISO-8859-1 .csv file with line 1: name (units). Times are ISO 8601 strings. https://en.wikipedia.org/wiki/Comma-separated_values</formspec>
        </digtinfo>
        <digtopt>
          <onlinopt>
            <computer>
              <networka>
                <networkr>https://tds.marine.rutgers.edu/erddap/griddap/RARITAN_ELEVATION.html</networkr>
                <CI_OnlineResource>
                  <linkage>https://tds.marine.rutgers.edu/erddap/griddap/RARITAN_ELEVATION.html</linkage>
                  <name>Rartian River Basin Elevation Data.</name>
                  <description>Web page for accessing metadata and downloading data.</description>
                  <function>download</function>
                </CI_OnlineResource>
                <CI_OnlineResource>
                  <linkage>https://tds.marine.rutgers.edu/erddap/griddap/RARITAN_ELEVATION.html</linkage>
                  <name>Rartian River Basin Elevation Data.</name>
                  <description>Web page for accessing metadata and downloading data.</description>
                  <function>information</function>
                </CI_OnlineResource>
              </networka>
            </computer>
          </onlinopt>
        </digtopt>
      </digform>
      <digform>
        <digtinfo>
          <formname>.das</formname>
          <formvern>1</formvern>
          <formspec>View the dataset&#39;s metadata via an ISO-8859-1 OPeNDAP Dataset Attribute Structure (DAS). https://docs.opendap.org/index.php/UserGuideOPeNDAPMessages#Dataset_Attribute_Structure</formspec>
        </digtinfo>
        <digtopt>
          <onlinopt>
            <computer>
              <networka>
                <networkr>https://tds.marine.rutgers.edu/erddap/griddap/RARITAN_ELEVATION.html</networkr>
                <CI_OnlineResource>
                  <linkage>https://tds.marine.rutgers.edu/erddap/griddap/RARITAN_ELEVATION.html</linkage>
                  <name>Rartian River Basin Elevation Data.</name>
                  <description>Web page for accessing metadata and downloading data.</description>
                  <function>download</function>
                </CI_OnlineResource>
                <CI_OnlineResource>
                  <linkage>https://tds.marine.rutgers.edu/erddap/griddap/RARITAN_ELEVATION.html</linkage>
                  <name>Rartian River Basin Elevation Data.</name>
                  <description>Web page for accessing metadata and downloading data.</description>
                  <function>information</function>
                </CI_OnlineResource>
              </networka>
            </computer>
          </onlinopt>
        </digtopt>
      </digform>
      <digform>
        <digtinfo>
          <formname>.dds</formname>
          <formvern>1</formvern>
          <formspec>View the dataset&#39;s structure via an ISO-8859-1 OPeNDAP Dataset Descriptor Structure (DDS). https://docs.opendap.org/index.php/UserGuideOPeNDAPMessages#Dataset_Descriptor_Structure</formspec>
        </digtinfo>
        <digtopt>
          <onlinopt>
            <computer>
              <networka>
                <networkr>https://tds.marine.rutgers.edu/erddap/griddap/RARITAN_ELEVATION.html</networkr>
                <CI_OnlineResource>
                  <linkage>https://tds.marine.rutgers.edu/erddap/griddap/RARITAN_ELEVATION.html</linkage>
                  <name>Rartian River Basin Elevation Data.</name>
                  <description>Web page for accessing metadata and downloading data.</description>
                  <function>download</function>
                </CI_OnlineResource>
                <CI_OnlineResource>
                  <linkage>https://tds.marine.rutgers.edu/erddap/griddap/RARITAN_ELEVATION.html</linkage>
                  <name>Rartian River Basin Elevation Data.</name>
                  <description>Web page for accessing metadata and downloading data.</description>
                  <function>information</function>
                </CI_OnlineResource>
              </networka>
            </computer>
          </onlinopt>
        </digtopt>
      </digform>
      <digform>
        <digtinfo>
          <formname>.dods</formname>
          <formvern>1</formvern>
          <formspec>OPeNDAP clients use this to download the data in the DODS binary format. https://docs.opendap.org/index.php/UserGuideOPeNDAPMessages#Data_Transmission</formspec>
        </digtinfo>
        <digtopt>
          <onlinopt>
            <computer>
              <networka>
                <networkr>https://tds.marine.rutgers.edu/erddap/griddap/RARITAN_ELEVATION.html</networkr>
                <CI_OnlineResource>
                  <linkage>https://tds.marine.rutgers.edu/erddap/griddap/RARITAN_ELEVATION.html</linkage>
                  <name>Rartian River Basin Elevation Data.</name>
                  <description>Web page for accessing metadata and downloading data.</description>
                  <function>download</function>
                </CI_OnlineResource>
                <CI_OnlineResource>
                  <linkage>https://tds.marine.rutgers.edu/erddap/griddap/RARITAN_ELEVATION.html</linkage>
                  <name>Rartian River Basin Elevation Data.</name>
                  <description>Web page for accessing metadata and downloading data.</description>
                  <function>information</function>
                </CI_OnlineResource>
              </networka>
            </computer>
          </onlinopt>
        </digtopt>
      </digform>
      <digform>
        <digtinfo>
          <formname>.esriAscii</formname>
          <formvern>1</formvern>
          <formspec>Download an ISO-8859-1 ESRI ASCII file (latitude longitude data only; longitude must be all below or all above 180). https://en.wikipedia.org/wiki/Esri_grid</formspec>
        </digtinfo>
        <digtopt>
          <onlinopt>
            <computer>
              <networka>
                <networkr>https://tds.marine.rutgers.edu/erddap/griddap/RARITAN_ELEVATION.html</networkr>
                <CI_OnlineResource>
                  <linkage>https://tds.marine.rutgers.edu/erddap/griddap/RARITAN_ELEVATION.html</linkage>
                  <name>Rartian River Basin Elevation Data.</name>
                  <description>Web page for accessing metadata and downloading data.</description>
                  <function>download</function>
                </CI_OnlineResource>
                <CI_OnlineResource>
                  <linkage>https://tds.marine.rutgers.edu/erddap/griddap/RARITAN_ELEVATION.html</linkage>
                  <name>Rartian River Basin Elevation Data.</name>
                  <description>Web page for accessing metadata and downloading data.</description>
                  <function>information</function>
                </CI_OnlineResource>
              </networka>
            </computer>
          </onlinopt>
        </digtopt>
      </digform>
      <digform>
        <digtinfo>
          <formname>.fgdc</formname>
          <formvern>1</formvern>
          <formspec>View the dataset&#39;s UTF-8 FGDC .xml metadata. https://www.fgdc.gov/standards/projects/FGDC-standards-projects/metadata/base-metadata/index_html</formspec>
        </digtinfo>
        <digtopt>
          <onlinopt>
            <computer>
              <networka>
                <networkr>https://tds.marine.rutgers.edu/erddap/griddap/RARITAN_ELEVATION.html</networkr>
                <CI_OnlineResource>
                  <linkage>https://tds.marine.rutgers.edu/erddap/griddap/RARITAN_ELEVATION.html</linkage>
                  <name>Rartian River Basin Elevation Data.</name>
                  <description>Web page for accessing metadata and downloading data.</description>
                  <function>download</function>
                </CI_OnlineResource>
                <CI_OnlineResource>
                  <linkage>https://tds.marine.rutgers.edu/erddap/griddap/RARITAN_ELEVATION.html</linkage>
                  <name>Rartian River Basin Elevation Data.</name>
                  <description>Web page for accessing metadata and downloading data.</description>
                  <function>information</function>
